BEGIN:VCALENDAR
VERSION:2.0
PRODID:-//Lowry Business Alliance (LBA) - ECPv6.15.20//NONSGML v1.0//EN
CALSCALE:GREGORIAN
METHOD:PUBLISH
X-WR-CALNAME:Lowry Business Alliance (LBA)
X-ORIGINAL-URL:https://lowrybusiness.com
X-WR-CALDESC:Events for Lowry Business Alliance (LBA)
REFRESH-INTERVAL;VALUE=DURATION:PT1H
X-Robots-Tag:noindex
X-PUBLISHED-TTL:PT1H
BEGIN:VTIMEZONE
TZID:America/Denver
BEGIN:DAYLIGHT
TZOFFSETFROM:-0700
TZOFFSETTO:-0600
TZNAME:MDT
DTSTART:20230312T090000
END:DAYLIGHT
BEGIN:STANDARD
TZOFFSETFROM:-0600
TZOFFSETTO:-0700
TZNAME:MST
DTSTART:20231105T080000
END:STANDARD
BEGIN:DAYLIGHT
TZOFFSETFROM:-0700
TZOFFSETTO:-0600
TZNAME:MDT
DTSTART:20240310T090000
END:DAYLIGHT
BEGIN:STANDARD
TZOFFSETFROM:-0600
TZOFFSETTO:-0700
TZNAME:MST
DTSTART:20241103T080000
END:STANDARD
BEGIN:DAYLIGHT
TZOFFSETFROM:-0700
TZOFFSETTO:-0600
TZNAME:MDT
DTSTART:20250309T090000
END:DAYLIGHT
BEGIN:STANDARD
TZOFFSETFROM:-0600
TZOFFSETTO:-0700
TZNAME:MST
DTSTART:20251102T080000
END:STANDARD
BEGIN:DAYLIGHT
TZOFFSETFROM:-0700
TZOFFSETTO:-0600
TZNAME:MDT
DTSTART:20260308T090000
END:DAYLIGHT
BEGIN:STANDARD
TZOFFSETFROM:-0600
TZOFFSETTO:-0700
TZNAME:MST
DTSTART:20261101T080000
END:STANDARD
END:VTIMEZONE
BEGIN:VEVENT
DTSTART;TZID=America/Denver:20251011T170000
DTEND;TZID=America/Denver:20251011T200000
DTSTAMP:20260421T123748
CREATED:20250827T205338Z
LAST-MODIFIED:20250827T213514Z
UID:1010-1760202000-1760212800@lowrybusiness.com
SUMMARY:Brookdale Lowry's Unmasking Alzheimer's Gala
DESCRIPTION:Join Brookdale Lowry on Saturday\, Oct. 11\, 2025\, for an unforgettable evening supporting the Denver Alzheimer’s Association. \n✨ Live music 🖼️ Silent auction 🍽️ Delicious food & drinks 🏡 Beautiful community space \n🎟️ Tickets: $45 💜 All proceeds go directly to the Denver Alzheimer’s Association \nLet’s come together to raise awareness\, celebrate hope\, and make a difference. To donate a silent auction item or learn more\, contact Art Fregoso at 303-364-7149. \n#UnmaskingAlzheimers #BrookdaleLowry #DenverEvents #EndAlz #CommunityStrong
URL:https://lowrybusiness.com/event/brookdale-lowrys-unmasking-alzheimers-gala/
LOCATION:Brookdale Senior Living\, 150 Quebec St\, Denver\, CO 80230\, Denver\, CO\, 80230
CATEGORIES:Benefit Fundraiser,Lowry Business Alliance Member Event,Lowry Community Event,Senior Living
ATTACH;FMTTYPE=image/jpeg:https://lowrybusiness.com/wp-content/uploads/2025/08/alzheimers-gala.jpg
END:VEVENT
BEGIN:VEVENT
DTSTART;TZID=America/Denver:20241107T080000
DTEND;TZID=America/Denver:20241107T170000
DTSTAMP:20260421T123748
CREATED:20240923T163012Z
LAST-MODIFIED:20241007T163155Z
UID:752-1730966400-1730998800@lowrybusiness.com
SUMMARY:Lowry Foundation Wine and Holiday Food Tasting
DESCRIPTION:Wine tasting event featuring wines that pair with your favorite holiday foods! All wines will be available for purchase and pickup before the holidays at Clark’s Market. Clark’s Market will also provide wonderful holiday food samplings provided by their catering department. $35/pp Tickets on sale soon!
URL:https://lowrybusiness.com/event/lowry-foundation-wine-and-holiday-food-tasting/
LOCATION:Eisenhower Chapel\, 293 Roslyn St\, Denver\, CO\, 80230
CATEGORIES:Benefit Fundraiser,Mixer,Seasonal
ATTACH;FMTTYPE=image/jpeg:https://lowrybusiness.com/wp-content/uploads/2024/09/wine-at-hangar-club.jpg
END:VEVENT
END:VCALENDAR