BEGIN:VCALENDAR
VERSION:2.0
PRODID:-//Lowry Business Alliance (LBA) - ECPv6.15.20//NONSGML v1.0//EN
CALSCALE:GREGORIAN
METHOD:PUBLISH
X-ORIGINAL-URL:https://lowrybusiness.com
X-WR-CALDESC:Events for Lowry Business Alliance (LBA)
REFRESH-INTERVAL;VALUE=DURATION:PT1H
X-Robots-Tag:noindex
X-PUBLISHED-TTL:PT1H
BEGIN:VTIMEZONE
TZID:America/Denver
BEGIN:DAYLIGHT
TZOFFSETFROM:-0700
TZOFFSETTO:-0600
TZNAME:MDT
DTSTART:20240310T090000
END:DAYLIGHT
BEGIN:STANDARD
TZOFFSETFROM:-0600
TZOFFSETTO:-0700
TZNAME:MST
DTSTART:20241103T080000
END:STANDARD
BEGIN:DAYLIGHT
TZOFFSETFROM:-0700
TZOFFSETTO:-0600
TZNAME:MDT
DTSTART:20250309T090000
END:DAYLIGHT
BEGIN:STANDARD
TZOFFSETFROM:-0600
TZOFFSETTO:-0700
TZNAME:MST
DTSTART:20251102T080000
END:STANDARD
BEGIN:DAYLIGHT
TZOFFSETFROM:-0700
TZOFFSETTO:-0600
TZNAME:MDT
DTSTART:20260308T090000
END:DAYLIGHT
BEGIN:STANDARD
TZOFFSETFROM:-0600
TZOFFSETTO:-0700
TZNAME:MST
DTSTART:20261101T080000
END:STANDARD
END:VTIMEZONE
BEGIN:VEVENT
DTSTART;TZID=America/Denver:20251011T170000
DTEND;TZID=America/Denver:20251011T200000
DTSTAMP:20260421T104532
CREATED:20250827T205338Z
LAST-MODIFIED:20250827T213514Z
UID:1010-1760202000-1760212800@lowrybusiness.com
SUMMARY:Brookdale Lowry's Unmasking Alzheimer's Gala
DESCRIPTION:Join Brookdale Lowry on Saturday\, Oct. 11\, 2025\, for an unforgettable evening supporting the Denver Alzheimer’s Association. \n✨ Live music 🖼️ Silent auction 🍽️ Delicious food & drinks 🏡 Beautiful community space \n🎟️ Tickets: $45 💜 All proceeds go directly to the Denver Alzheimer’s Association \nLet’s come together to raise awareness\, celebrate hope\, and make a difference. To donate a silent auction item or learn more\, contact Art Fregoso at 303-364-7149. \n#UnmaskingAlzheimers #BrookdaleLowry #DenverEvents #EndAlz #CommunityStrong
URL:https://lowrybusiness.com/event/brookdale-lowrys-unmasking-alzheimers-gala/
LOCATION:Brookdale Senior Living\, 150 Quebec St\, Denver\, CO 80230\, Denver\, CO\, 80230
CATEGORIES:Benefit Fundraiser,Lowry Business Alliance Member Event,Lowry Community Event,Senior Living
ATTACH;FMTTYPE=image/jpeg:https://lowrybusiness.com/wp-content/uploads/2025/08/alzheimers-gala.jpg
END:VEVENT
BEGIN:VEVENT
DTSTART;TZID=America/Denver:20250529T163000
DTEND;TZID=America/Denver:20250529T180000
DTSTAMP:20260421T104532
CREATED:20250522T195744Z
LAST-MODIFIED:20250522T195954Z
UID:934-1748536200-1748541600@lowrybusiness.com
SUMMARY:Senior Planet Social Club
DESCRIPTION:Join us at the Senior Planet center in Lowry for a social event with food and drinks!! Don’t miss out on this chance to socialize with the Senior Planet community. All are welcome to join! Please RSVP here
URL:https://lowrybusiness.com/event/senior-planet-social-club/
LOCATION:Senior Planet\, 7585 E Academy Blvd\,\, Denver\, CO\, 80230\, United States
CATEGORIES:Happy Hour,Lowry Business Alliance Member Event,Mixer,Senior Living
ATTACH;FMTTYPE=image/jpeg:https://lowrybusiness.com/wp-content/uploads/2025/05/Senior-Planet-Social-Club.jpg
END:VEVENT
BEGIN:VEVENT
DTSTART;TZID=America/Denver:20250212T080000
DTEND;TZID=America/Denver:20250212T090000
DTSTAMP:20260421T104532
CREATED:20250125T182552Z
LAST-MODIFIED:20250125T190055Z
UID:865-1739347200-1739350800@lowrybusiness.com
SUMMARY:Veteran's Breakfast
DESCRIPTION:Complimentary breakfast\, open to veterans and family.
URL:https://lowrybusiness.com/event/veterans-breakfast/
LOCATION:Brookdale Senior Living\, 150 Quebec St\, Denver\, CO 80230\, Denver\, CO\, 80230
CATEGORIES:Breakfast Event,Coffee,Lowry Business Alliance Member Event,Lowry Community Event,Senior Living
ATTACH;FMTTYPE=image/png:https://lowrybusiness.com/wp-content/uploads/2025/01/February-Invitation.png
END:VEVENT
BEGIN:VEVENT
DTSTART;TZID=America/Denver:20250202T100000
DTEND;TZID=America/Denver:20250202T110000
DTSTAMP:20260421T104532
CREATED:20250125T182959Z
LAST-MODIFIED:20250125T190223Z
UID:869-1738490400-1738494000@lowrybusiness.com
SUMMARY:Brookdale Lowry Speaker Series with Jamie Sarche
DESCRIPTION:
URL:https://lowrybusiness.com/event/brookdale-lowry-speaker-series-with-jamie-sarche/
LOCATION:Brookdale Senior Living\, 150 Quebec St\, Denver\, CO 80230\, Denver\, CO\, 80230
CATEGORIES:Educational Talk,Lowry Business Alliance Member Event,Lowry Community Event,Senior Living,Speaker
ATTACH;FMTTYPE=image/png:https://lowrybusiness.com/wp-content/uploads/2025/01/Jamie-Sarche-Speaker-Series.png
END:VEVENT
END:VCALENDAR